BEGIN:VCALENDAR
VERSION:2.0
PRODID:-//hacksw/handcal//NONSGML v1.0//EN
BEGIN:VTIMEZONE
TZID:Europe/Berlin
X-LIC-LOCATION:Europe/Berlin
BEGIN:DAYLIGHT
TZOFFSETFROM:+0100
TZOFFSETTO:+0200
TZNAME:CEST
DTSTART:19700329T020000
RRULE:FREQ=YEARLY;BYDAY=-1SU;BYMONTH=3
END:DAYLIGHT
BEGIN:STANDARD
TZOFFSETFROM:+0200
TZOFFSETTO:+0100
TZNAME:CET
DTSTART:19701025T030000
RRULE:FREQ=YEARLY;BYDAY=-1SU;BYMONTH=10
END:STANDARD
END:VTIMEZONE
BEGIN:VEVENT
UID:290fd7f914426d4fe75e6952da45e153chancenland.at
DTSTAMP;TZID=Europe/Berlin:20260419T201132
DTSTART;TZID=Europe/Berlin:20230928T160000
DTEND;TZID=Europe/Berlin:20230928T170000
SUMMARY:WISSENSFLUSS Webinar 1 &#8211; Was bedeutet es für ein Unternehmen eine internationale Fachkraft einzustellen?
DESCRIPTION:Bist du für HR-Themen in deinem Unternehmen zuständig? Beschäftigst du dich gerade mit dem Thema, was es bedeutet eine internationale Fachkraft einzustellen? Dann ist das erste Webinar unserer kostenlosen Webinarreihe WISSENSFLUSS das Richtige für dich.
LOCATION:digital
END:VEVENT
END:VCALENDAR