BEGIN:VCALENDAR
VERSION:2.0
PRODID:-//hacksw/handcal//NONSGML v1.0//EN
BEGIN:VTIMEZONE
TZID:Europe/Berlin
X-LIC-LOCATION:Europe/Berlin
BEGIN:DAYLIGHT
TZOFFSETFROM:+0100
TZOFFSETTO:+0200
TZNAME:CEST
DTSTART:19700329T020000
RRULE:FREQ=YEARLY;BYDAY=-1SU;BYMONTH=3
END:DAYLIGHT
BEGIN:STANDARD
TZOFFSETFROM:+0200
TZOFFSETTO:+0100
TZNAME:CET
DTSTART:19701025T030000
RRULE:FREQ=YEARLY;BYDAY=-1SU;BYMONTH=10
END:STANDARD
END:VTIMEZONE
BEGIN:VEVENT
UID:07538fa7fcc1d6035cfeb0adb1c409a1chancenland.at
DTSTAMP;TZID=Europe/Berlin:20260423T035916
DTSTART;TZID=Europe/Berlin:20260709T180000
DTEND;TZID=Europe/Berlin:20260709T220000
SUMMARY:Sunset Cruise Event am Bodensee
DESCRIPTION:Bist du Student*in im Bereich der Technik? Komm zu unserem Sunset Cruise Event und lerne top Vorarlberger Unternehmen persönlich kennen.
LOCATION:Schiff Stadt Bregenz
END:VEVENT
END:VCALENDAR