BEGIN:VCALENDAR
VERSION:2.0
PRODID:-//hacksw/handcal//NONSGML v1.0//EN
BEGIN:VTIMEZONE
TZID:Europe/Berlin
X-LIC-LOCATION:Europe/Berlin
BEGIN:DAYLIGHT
TZOFFSETFROM:+0100
TZOFFSETTO:+0200
TZNAME:CEST
DTSTART:19700329T020000
RRULE:FREQ=YEARLY;BYDAY=-1SU;BYMONTH=3
END:DAYLIGHT
BEGIN:STANDARD
TZOFFSETFROM:+0200
TZOFFSETTO:+0100
TZNAME:CET
DTSTART:19701025T030000
RRULE:FREQ=YEARLY;BYDAY=-1SU;BYMONTH=10
END:STANDARD
END:VTIMEZONE
BEGIN:VEVENT
UID:47d88e41452db2e5f9c390458f9cd766chancenland.at
DTSTAMP;TZID=Europe/Berlin:20260424T141337
DTSTART;TZID=Europe/Berlin:20261015T130000
DTEND;TZID=Europe/Berlin:20261015T180000
SUMMARY:Karrieremesse Ravensburg 2026 I Event Dashboard
DESCRIPTION:Bist du Student*in in einem technischen Studiengang? Bist du auf der Suche nach einem Job, Praktikum, Traineeprogramm oder einer Stelle für deine Abschlussarbeit?
LOCATION:Unibz Campus in Bozen
END:VEVENT
END:VCALENDAR